BEGIN:VCALENDAR
VERSION:2.0
PRODID:-//Secció Excursionista Foment Martinenc - ECPv6.15.20//NONSGML v1.0//EN
CALSCALE:GREGORIAN
METHOD:PUBLISH
X-WR-CALNAME:Secció Excursionista Foment Martinenc
X-ORIGINAL-URL:https://www.sefm.cat
X-WR-CALDESC:Esdeveniments per Secció Excursionista Foment Martinenc
REFRESH-INTERVAL;VALUE=DURATION:PT1H
X-Robots-Tag:noindex
X-PUBLISHED-TTL:PT1H
BEGIN:VTIMEZONE
TZID:Europe/Madrid
BEGIN:DAYLIGHT
TZOFFSETFROM:+0100
TZOFFSETTO:+0200
TZNAME:CEST
DTSTART:20250330T010000
END:DAYLIGHT
BEGIN:STANDARD
TZOFFSETFROM:+0200
TZOFFSETTO:+0100
TZNAME:CET
DTSTART:20251026T010000
END:STANDARD
BEGIN:DAYLIGHT
TZOFFSETFROM:+0100
TZOFFSETTO:+0200
TZNAME:CEST
DTSTART:20260329T010000
END:DAYLIGHT
BEGIN:STANDARD
TZOFFSETFROM:+0200
TZOFFSETTO:+0100
TZNAME:CET
DTSTART:20261025T010000
END:STANDARD
BEGIN:DAYLIGHT
TZOFFSETFROM:+0100
TZOFFSETTO:+0200
TZNAME:CEST
DTSTART:20270328T010000
END:DAYLIGHT
BEGIN:STANDARD
TZOFFSETFROM:+0200
TZOFFSETTO:+0100
TZNAME:CET
DTSTART:20271031T010000
END:STANDARD
END:VTIMEZONE
BEGIN:VEVENT
DTSTART;TZID=Europe/Madrid:20260410T093000
DTEND;TZID=Europe/Madrid:20260410T133000
DTSTAMP:20260421T153005
CREATED:20260407T105530Z
LAST-MODIFIED:20260407T110206Z
UID:11773-1775813400-1775827800@www.sefm.cat
SUMMARY:10-04-2026 Marxa Nòrdica
DESCRIPTION:Anirem a veure aquesta exposició al Museu de Badalona i tornarem caminant amb Marxa Nòrdica a Barcelona.
URL:https://www.sefm.cat/event/10-04-2026-marxa-nordica/
LOCATION:andana L2 Pompeu Fabra
CATEGORIES:Marxa Nòrdica
ATTACH;FMTTYPE=image/jpeg:https://www.sefm.cat/wp-content/uploads/2026/04/caption.jpg
ORGANIZER;CN="Isabel Reina":MAILTO:ireina222@gmail.com
END:VEVENT
END:VCALENDAR