BEGIN:VCALENDAR
VERSION:2.0
PRODID:-//Secció Excursionista Foment Martinenc - ECPv6.15.20//NONSGML v1.0//EN
CALSCALE:GREGORIAN
METHOD:PUBLISH
X-ORIGINAL-URL:https://www.sefm.cat
X-WR-CALDESC:Esdeveniments per Secció Excursionista Foment Martinenc
REFRESH-INTERVAL;VALUE=DURATION:PT1H
X-Robots-Tag:noindex
X-PUBLISHED-TTL:PT1H
BEGIN:VTIMEZONE
TZID:Europe/Madrid
BEGIN:DAYLIGHT
TZOFFSETFROM:+0100
TZOFFSETTO:+0200
TZNAME:CEST
DTSTART:20250330T010000
END:DAYLIGHT
BEGIN:STANDARD
TZOFFSETFROM:+0200
TZOFFSETTO:+0100
TZNAME:CET
DTSTART:20251026T010000
END:STANDARD
BEGIN:DAYLIGHT
TZOFFSETFROM:+0100
TZOFFSETTO:+0200
TZNAME:CEST
DTSTART:20260329T010000
END:DAYLIGHT
BEGIN:STANDARD
TZOFFSETFROM:+0200
TZOFFSETTO:+0100
TZNAME:CET
DTSTART:20261025T010000
END:STANDARD
BEGIN:DAYLIGHT
TZOFFSETFROM:+0100
TZOFFSETTO:+0200
TZNAME:CEST
DTSTART:20270328T010000
END:DAYLIGHT
BEGIN:STANDARD
TZOFFSETFROM:+0200
TZOFFSETTO:+0100
TZNAME:CET
DTSTART:20271031T010000
END:STANDARD
END:VTIMEZONE
BEGIN:VEVENT
DTSTART;TZID=Europe/Madrid:20260503T090000
DTEND;TZID=Europe/Madrid:20260503T143000
DTSTAMP:20260421T153138
CREATED:20260421T092540Z
LAST-MODIFIED:20260421T092540Z
UID:11809-1777798800-1777818600@www.sefm.cat
SUMMARY:03-05-2026 Marxa Nòrdica
DESCRIPTION:Anirem fent Marxa Nòrdica a la Pineda de Can Camins (Prat del Llobregat) i la visitarem amb un guia del Parc. Entre els pins pinyers trobarem petites orquídies (si tenim sort) i ocells boscans com la mallarenga carbonera. \nAl final de la visita\, si tenim temps\, podrem pujar al Mirador de l’Illa per gaudir d’un vista esplèndida del Delta. \n  \n  \n  \n \n 
URL:https://www.sefm.cat/event/03-05-2026-marxa-nordica/
LOCATION:Andana de l’ estació metro Collblanc línia 9
CATEGORIES:Marxa Nòrdica
ATTACH;FMTTYPE=image/jpeg:https://www.sefm.cat/wp-content/uploads/2026/04/pineda-can-cami.jpg
ORGANIZER;CN="Isabel Reina":MAILTO:ireina222@gmail.com
END:VEVENT
END:VCALENDAR