BEGIN:VCALENDAR
VERSION:2.0
PRODID:-//Secció Excursionista Foment Martinenc - ECPv6.15.20//NONSGML v1.0//EN
CALSCALE:GREGORIAN
METHOD:PUBLISH
X-WR-CALNAME:Secció Excursionista Foment Martinenc
X-ORIGINAL-URL:https://www.sefm.cat
X-WR-CALDESC:Esdeveniments per Secció Excursionista Foment Martinenc
REFRESH-INTERVAL;VALUE=DURATION:PT1H
X-Robots-Tag:noindex
X-PUBLISHED-TTL:PT1H
BEGIN:VTIMEZONE
TZID:Europe/Madrid
BEGIN:DAYLIGHT
TZOFFSETFROM:+0100
TZOFFSETTO:+0200
TZNAME:CEST
DTSTART:20250330T010000
END:DAYLIGHT
BEGIN:STANDARD
TZOFFSETFROM:+0200
TZOFFSETTO:+0100
TZNAME:CET
DTSTART:20251026T010000
END:STANDARD
BEGIN:DAYLIGHT
TZOFFSETFROM:+0100
TZOFFSETTO:+0200
TZNAME:CEST
DTSTART:20260329T010000
END:DAYLIGHT
BEGIN:STANDARD
TZOFFSETFROM:+0200
TZOFFSETTO:+0100
TZNAME:CET
DTSTART:20261025T010000
END:STANDARD
BEGIN:DAYLIGHT
TZOFFSETFROM:+0100
TZOFFSETTO:+0200
TZNAME:CEST
DTSTART:20270328T010000
END:DAYLIGHT
BEGIN:STANDARD
TZOFFSETFROM:+0200
TZOFFSETTO:+0100
TZNAME:CET
DTSTART:20271031T010000
END:STANDARD
END:VTIMEZONE
BEGIN:VEVENT
DTSTART;VALUE=DATE:20260329
DTEND;VALUE=DATE:20260330
DTSTAMP:20260421T135424
CREATED:20260304T183357Z
LAST-MODIFIED:20260417T164513Z
UID:11710-1774742400-1774828799@www.sefm.cat
SUMMARY:29 de març de 2026. Dones i 3000. Itinerari nivell2 de raquetes de neu. Cims dels Rasos de Dalt\, de Baix i la Torreta del Enginyers. BERGUEDÀ. ANUL·LADA PER PREVISSIÓ D'INCLEMÈNCIES METEOROLÒGIQUES.
DESCRIPTION:Diumenge 29 de març i tornem amb cicle Dones i 3000\, 100 cims\, volem tornar a programar una nova sortida d’un dia\, per recordar i reforçar la tècnica de les raquetes de neu a la muntanya. Aquesta ocasió un recorregut d’uns nou quilòmetres i mig amb un desnivell acumulat de 750 metres per un itinerari amb desnivells de pujada i baixada  semblants a la darrera sortida per practicar la progressió en l’ascens i el descens per neu des de les antigues instal·lacions de les pistes de Rasos de Peguera\, fins al cim de la Torreta dels Enginyers\, tot passant pels cims dels Rasos de Dalt i de Baix. La tornada per la coneguda pista des del pla de l’Orri fins al parquing. \n \nHora de trobada 6.15 h per sortir a les 6.30 h \nLloc: c.Xifrer cantonada c.Provença \nSortida subvencionada dins del programa del Cicle Dones i 3000\, 100 cims \nCal disposar de l’ampliació a llicència FEEC\, tipus C \nEl transport serà en vehicles particulars\, cal confirmar en cas de no disposar de plaça. Per poder quadrar mobilitat. \nCal portar: Roba d’abrigar adient a l’activitat al medi natural amb neu\, botes i paraneus\, raquetes de neu i pals amb les rossetes de neu\, ulleres de neu\, crema solar\, menjar i prou beguda per realitzar una excursió d’una jornada. \nQui no disposi de raquetes les podrà llogar a material de la SEFM \nQualsevol dubte contactar amb secretaria SEFM o a info@sefm.cat
URL:https://www.sefm.cat/event/29-de-marc-de-2026-dones-i-3000-itinerari-2-de-raquetes-de-neucims-dels-rasos-de-dalt-de-baix-i-la-torreta-bergueda/
LOCATION:Xifré /Provença\, Provença\, 568\, Barcelona\, Barcelona\, 08026\, Espanya
CATEGORIES:Cicle Dones i 3000
ATTACH;FMTTYPE=image/jpeg:https://www.sefm.cat/wp-content/uploads/2026/02/raquetas-nieve-sin-licencia.jpg
END:VEVENT
END:VCALENDAR